BEGIN:VCALENDAR
VERSION:2.0
PRODID:spatie/icalendar-generator
BEGIN:VTIMEZONE
TZID:UTC
BEGIN:STANDARD
DTSTART:20250727T173226
TZOFFSETFROM:+0000
TZOFFSETTO:+0000
END:STANDARD
END:VTIMEZONE
BEGIN:VEVENT
UID:f36e84c1-10be-4f72-8282-08cd8f57108b--0
DTSTAMP:20260423T173226Z
SUMMARY:Sputumevacuerende en volumerecruterende respiratoire kinesitherapie
  bij minder mobiele en/of weinig tot niet-coöperatieve volwassenen en oud
 eren
LOCATION:Campus UZ Gent\,Corneel Heymanslaan 10\, 9000 Gent (inrit via Corn
 eel Heymanslaan)\, ingang 46\, gebouw B3\, 5de verdieping\,leslokaal 5.1
ORGANIZER;CN=Academie voor Revalidatiewetenschappen:MAILTO:acrehab@ugent.be
DTSTART:20261119T080000Z
DTEND:20261119T160000Z
END:VEVENT
BEGIN:VEVENT
UID:f36e84c1-10be-4f72-8282-08cd8f57108b--1
DTSTAMP:20260423T173226Z
SUMMARY:Sputumevacuerende en volumerecruterende respiratoire kinesitherapie
  bij minder mobiele en/of weinig tot niet-coöperatieve volwassenen en oud
 eren
LOCATION:Campus UZ Gent\,Corneel Heymanslaan 10\, 9000 Gent (inrit via Corn
 eel Heymanslaan)\, ingang 46\, gebouw B3\, 5de verdieping\,leslokaal 5.1
ORGANIZER;CN=Academie voor Revalidatiewetenschappen:MAILTO:acrehab@ugent.be
DTSTART:20261211T080000Z
DTEND:20261211T160000Z
END:VEVENT
END:VCALENDAR