BEGIN:VCALENDAR
VERSION:2.0
PRODID:spatie/icalendar-generator
BEGIN:VTIMEZONE
TZID:UTC
BEGIN:STANDARD
DTSTART:20250728T114739
TZOFFSETFROM:+0000
TZOFFSETTO:+0000
END:STANDARD
END:VTIMEZONE
BEGIN:VEVENT
UID:594bd001-c81d-428a-b2d0-95da48e8259c--0
DTSTAMP:20260424T114739Z
SUMMARY: Namiddagsymposium | Mind the Move: van angst naar actie bij lage r
 ugpijn
LOCATION:Campus Coupure\, Coupure Links 653\, Auditorium E2\, Blok E
ORGANIZER;CN=Academie voor Revalidatiewetenschappen:MAILTO:acrehab@ugent.be
DTSTART:20260428T113000Z
DTEND:20260428T150000Z
END:VEVENT
END:VCALENDAR