BEGIN:VCALENDAR
VERSION:2.0
PRODID:spatie/icalendar-generator
BEGIN:VTIMEZONE
TZID:UTC
BEGIN:STANDARD
DTSTART:20250729T004608
TZOFFSETFROM:+0000
TZOFFSETTO:+0000
END:STANDARD
END:VTIMEZONE
BEGIN:VEVENT
UID:2737590a-551f-4628-98ff-268fe863059a--0
DTSTAMP:20260425T004608Z
SUMMARY:De sleutel tot duurzame inzetbaarheid: De evaluatie van arbeidscapa
 citeiten door ergotherapeuten
LOCATION:Campus UZ Gent\, Corneel Heymanslaan 10\, Gebouw Nobel 1 (ingang 7
 )\, Workshopruimte 6 (volg route 7016)
ORGANIZER;CN=Academie voor Revalidatiewetenschappen:MAILTO:acrehab@ugent.be
DTSTART:20260912T070000Z
DTEND:20260912T150000Z
END:VEVENT
BEGIN:VEVENT
UID:2737590a-551f-4628-98ff-268fe863059a--1
DTSTAMP:20260425T004608Z
SUMMARY:De sleutel tot duurzame inzetbaarheid: De evaluatie van arbeidscapa
 citeiten door ergotherapeuten
LOCATION:Campus UZ Gent\, Corneel Heymanslaan 10\, Gebouw Nobel 1 (ingang 7
 )\, Workshopruimte 6 (volg route 7016)
ORGANIZER;CN=Academie voor Revalidatiewetenschappen:MAILTO:acrehab@ugent.be
DTSTART:20260923T070000Z
DTEND:20260923T150000Z
END:VEVENT
BEGIN:VEVENT
UID:2737590a-551f-4628-98ff-268fe863059a--2
DTSTAMP:20260425T004608Z
SUMMARY:De sleutel tot duurzame inzetbaarheid: De evaluatie van arbeidscapa
 citeiten door ergotherapeuten
LOCATION:Campus UZ Gent\, Corneel Heymanslaan 10\, Gebouw Nobel 1 (ingang 7
 )\, Workshopruimte 6 (volg route 7016)
ORGANIZER;CN=Academie voor Revalidatiewetenschappen:MAILTO:acrehab@ugent.be
DTSTART:20260930T070000Z
DTEND:20260930T150000Z
END:VEVENT
BEGIN:VEVENT
UID:2737590a-551f-4628-98ff-268fe863059a--3
DTSTAMP:20260425T004608Z
SUMMARY:De sleutel tot duurzame inzetbaarheid: De evaluatie van arbeidscapa
 citeiten door ergotherapeuten
LOCATION:Campus UZ Gent\, Corneel Heymanslaan 10\, Gebouw Nobel 1 (ingang 7
 )\, Workshopruimte 6 (volg route 7016)
ORGANIZER;CN=Academie voor Revalidatiewetenschappen:MAILTO:acrehab@ugent.be
DTSTART:20261007T070000Z
DTEND:20261007T150000Z
END:VEVENT
BEGIN:VEVENT
UID:2737590a-551f-4628-98ff-268fe863059a--4
DTSTAMP:20260425T004608Z
SUMMARY:De sleutel tot duurzame inzetbaarheid: De evaluatie van arbeidscapa
 citeiten door ergotherapeuten
LOCATION:Campus UZ Gent\, Corneel Heymanslaan 10\, Gebouw Nobel 1 (ingang 7
 )\, Workshopruimte 6 (volg route 7016)
ORGANIZER;CN=Academie voor Revalidatiewetenschappen:MAILTO:acrehab@ugent.be
DTSTART:20261014T070000Z
DTEND:20261014T111500Z
END:VEVENT
END:VCALENDAR