BEGIN:VCALENDAR
VERSION:2.0
PRODID:spatie/icalendar-generator
BEGIN:VTIMEZONE
TZID:UTC
BEGIN:STANDARD
DTSTART:20250720T002402
TZOFFSETFROM:+0000
TZOFFSETTO:+0000
END:STANDARD
END:VTIMEZONE
BEGIN:VEVENT
UID:4e72d9ea-a04d-44f8-b988-901ac7222521--0
DTSTAMP:20260416T002402Z
SUMMARY:De sleutel tot duurzame inzetbaarheid: De evaluatie van arbeidscapa
 citeiten door zorg- en welzijnsprofessionals
LOCATION:Campus UZ Gent\, Corneel Heymanslaan 10\, Gebouw Nobel 1 (ingang 7
 )\, Auditorium
ORGANIZER;CN=Academie voor Revalidatiewetenschappen:MAILTO:acrehab@ugent.be
DTSTART:20260912T063000Z
DTEND:20260912T153000Z
END:VEVENT
END:VCALENDAR