BEGIN:VCALENDAR
VERSION:2.0
PRODID:spatie/icalendar-generator
BEGIN:VTIMEZONE
TZID:UTC
BEGIN:STANDARD
DTSTART:20250719T165705
TZOFFSETFROM:+0000
TZOFFSETTO:+0000
END:STANDARD
END:VTIMEZONE
BEGIN:VEVENT
UID:4eae30b7-7d32-48bd-aa0f-ad7bb2642593--0
DTSTAMP:20260415T165705Z
SUMMARY:Hypotonie bij kinderen van 0 tot 2 jaar: onderzoek en interventie
LOCATION:Campus UZ Gent\, Corneel Heymanslaan 10\, Gebouw Nobel 1 (ingang 7
 )\, Auditorium
ORGANIZER;CN=Academie voor Revalidatiewetenschappen:MAILTO:acrehab@ugent.be
DTSTART:20260521T070000Z
DTEND:20260521T150000Z
END:VEVENT
END:VCALENDAR